BEGIN:VCALENDAR
VERSION:2.0
PRODID:-//Naturscouts - ECPv6.15.14//NONSGML v1.0//EN
CALSCALE:GREGORIAN
METHOD:PUBLISH
X-WR-CALNAME:Naturscouts
X-ORIGINAL-URL:https://naturscouts-leinetal.de
X-WR-CALDESC:Veranstaltungen für Naturscouts
REFRESH-INTERVAL;VALUE=DURATION:PT1H
X-Robots-Tag:noindex
X-PUBLISHED-TTL:PT1H
BEGIN:VTIMEZONE
TZID:Europe/Berlin
BEGIN:DAYLIGHT
TZOFFSETFROM:+0100
TZOFFSETTO:+0200
TZNAME:CEST
DTSTART:20230326T010000
END:DAYLIGHT
BEGIN:STANDARD
TZOFFSETFROM:+0200
TZOFFSETTO:+0100
TZNAME:CET
DTSTART:20231029T010000
END:STANDARD
BEGIN:DAYLIGHT
TZOFFSETFROM:+0100
TZOFFSETTO:+0200
TZNAME:CEST
DTSTART:20240331T010000
END:DAYLIGHT
BEGIN:STANDARD
TZOFFSETFROM:+0200
TZOFFSETTO:+0100
TZNAME:CET
DTSTART:20241027T010000
END:STANDARD
BEGIN:DAYLIGHT
TZOFFSETFROM:+0100
TZOFFSETTO:+0200
TZNAME:CEST
DTSTART:20250330T010000
END:DAYLIGHT
BEGIN:STANDARD
TZOFFSETFROM:+0200
TZOFFSETTO:+0100
TZNAME:CET
DTSTART:20251026T010000
END:STANDARD
END:VTIMEZONE
BEGIN:VEVENT
DTSTART;TZID=Europe/Berlin:20240413T100000
DTEND;TZID=Europe/Berlin:20240413T140000
DTSTAMP:20260420T054114
CREATED:20220615T072305Z
LAST-MODIFIED:20240208T142806Z
UID:6510-1713002400-1713016800@naturscouts-leinetal.de
SUMMARY:Vogelbeobachtung im Leinepolder
DESCRIPTION:Das bietet diese Führung\n \nMit seiner neuen Sonderausstellung in der Reihe «Kunst im Fachwerk» präsentiert das StadtMuseum Einbeck Arbeiten der Göttinger Künsterin und Wissenschaftlerin Ruth Reiche. Zur Ausstellung gibt es ein vielseitiges Begleitprogramm in Kooperation mit dem Verein Naturscouts Leinetal e.V. und der StadtpARTie Einbeck e.V.\, bei dem Kunstinteressierte\, Familien und Naturfreunde gleichermaßen auf ihre Kosten kommen. \nDer erste Teil des Begleitprogramms zur Ausstellung «Vögel» beschäftigt in Kooperation mit\nden Naturscouts Leinetal e.V. sich das mit dem EU Vogelschutzgebiet bei Salzderhelden \nZusammen mit dem Ornithologen Dr. Michael Corsmann beobachten wir Vögel im\nLeinpolder. Anschließend fahren wir ins StadtMuseum und sprechen mit Ruth Reiche in\nder Ausstellung über die künstlerische Umsetzung von Naturbeobachtungen. \nTreffpunkt: Parkplatz Bahnhof Salzderhelden am Eingang zum Vogelschutzgebiet\n \n  \nTeilnahme-Informationen\n \nVeranstalter der Führung ist das StadtMuseum Einbeck. Eine telefonische Anmeldung (05561-916-504) bis zum 05.04.24 ist erforderlich. Mindestteilnehmerzahl: 8 \nDie Führungen sind grundsätzlich für alle Altersklassen geeignet. Wetterbedingte Kleidung sollte selbstverständlich sein. Eine Teilnahme erfolgt auf eigene Gefahr. Im Rahmen der Führungen wird um eine Spende gebeten\, um die Ausbildung und Ausrüstung der Naturscouts realisieren zu können.
URL:https://naturscouts-leinetal.de/event/audienz-beim-wachtelkoenig-2/
LOCATION:Parkplatz Bahnhof Salzderhelden\, Alte Bahnhofstr. 8\, Einbeck\, 37574
ATTACH;FMTTYPE=image/jpeg:https://naturscouts-leinetal.de/wp-content/uploads/2018/03/Kraniche3_©-Naturscouts.jpg
END:VEVENT
END:VCALENDAR